BEGIN:VCALENDAR
VERSION:2.0
PRODID:-//ssjohnpaul.org//eCatholic//EN
X-WR-TIMEZONE:LocalTZ
BEGIN:VTIMEZONE
TZID:LocalTZ
X-LIC-LOCATION:LocalTZ
BEGIN:DAYLIGHT
TZOFFSETFROM:-0600
TZOFFSETTO:-0500
TZNAME:LocalTZ
DTSTART:19700308T020000
RRULE:FREQ=YEARLY;BYMONTH=3;BYDAY=2SU
END:DAYLIGHT
BEGIN:STANDARD
TZOFFSETFROM:-0500
TZOFFSETTO:-0600
TZNAME:LocalTZ
DTSTART:19701101T020000
RRULE:FREQ=YEARLY;BYMONTH=11;BYDAY=1SU
END:STANDARD
END:VTIMEZONE
BEGIN:VEVENT
UID:3025656@ssjohnpaul.org
DTSTAMP:20260424T035617Z
DTSTART:20260606T100000
DTEND:20260606T120000
SUMMARY:Baptism Prep Session-Part 2
DESCRIPTION:Preparation Session Part 2 is held at the Faith Development Ce
 nter from 10 am to 12 pm. Parents MUST participate in Preparation Session 
 Part 1 with a sponsor couple prior to attending this session.
END:VEVENT
BEGIN:VEVENT
UID:3069349@ssjohnpaul.org
DTSTAMP:20260424T035617Z
DTSTART;VALUE=DATE:20260717
DTEND;VALUE=DATE:20260719
SUMMARY:Ad Astra Youth Conference
DESCRIPTION:Serva Fidem is hosting a Summer Youth Conference\, Ad Astra fr
 om July 17-18\, 2026 at Grand View University in partnership with the Dioc
 ese of Des Moines. This is open to current and potential Serva Fidem teens
 . Tap or click for more information!
END:VEVENT
BEGIN:VEVENT
UID:3075954@ssjohnpaul.org
DTSTAMP:20260424T035617Z
DTSTART;VALUE=DATE:20260425
DTEND;VALUE=DATE:20260427
SUMMARY:Catholic Daughters Bake Sale
DESCRIPTION:Join the Catholic Daughters bake sale after all Masses the wee
 kend of April 25-26. Tap or click for details.
END:VEVENT
BEGIN:VEVENT
UID:3077994@ssjohnpaul.org
DTSTAMP:20260424T035617Z
DTSTART;VALUE=DATE:20260502
DTEND;VALUE=DATE:20260504
SUMMARY:Registration after Masses
DESCRIPTION:Stop by the VBS table after Masses to register.
END:VEVENT
BEGIN:VEVENT
UID:3077995@ssjohnpaul.org
DTSTAMP:20260424T035617Z
DTSTART;VALUE=DATE:20260509
DTEND;VALUE=DATE:20260511
SUMMARY:Registration after Masses
DESCRIPTION:Stop by the VBS table after Masses to register.
END:VEVENT
BEGIN:VEVENT
UID:3077996@ssjohnpaul.org
DTSTAMP:20260424T035617Z
DTSTART;VALUE=DATE:20260503
DTEND;VALUE=DATE:20260507
SUMMARY:Registration at May Faith Formation
DESCRIPTION:Register after the May faith formation gatherings.
END:VEVENT
BEGIN:VEVENT
UID:3077997@ssjohnpaul.org
DTSTAMP:20260424T035617Z
DTSTART:20260504T183000
DTEND:20260504T193000
SUMMARY:Station Leaders Meeting
END:VEVENT
BEGIN:VEVENT
UID:3077998@ssjohnpaul.org
DTSTAMP:20260424T035617Z
DTSTART;VALUE=DATE:20260524
DTEND;VALUE=DATE:20260525
SUMMARY:Registration Deadline
DESCRIPTION:Last day registration includes a free t-shirt
END:VEVENT
BEGIN:VEVENT
UID:3078001@ssjohnpaul.org
DTSTAMP:20260424T035617Z
DTSTART;VALUE=DATE:20260606
DTEND;VALUE=DATE:20260608
SUMMARY:Donation board
DESCRIPTION:Choose one or two items from the donation board and bring your
  donations back by June 20-21.
END:VEVENT
BEGIN:VEVENT
UID:3078003@ssjohnpaul.org
DTSTAMP:20260424T035617Z
DTSTART:20260617T180000
DTEND:20260617T190000
SUMMARY:Volunteer Work Night
DESCRIPTION:All volunteers should plan to attend this meeting to help with
  VBS preparations and receive instructions. 6 pm\, supper\, 6:30 pm\, work
  night. The parish will provide sandwiches\, chips\, and lemonade. You are
  invited to bring a dessert to share. Also\, each volunteer should bring a
  white cotton t-shirt to tie-dye.
END:VEVENT
BEGIN:VEVENT
UID:3078004@ssjohnpaul.org
DTSTAMP:20260424T035617Z
DTSTART;VALUE=DATE:20260613
DTEND;VALUE=DATE:20260615
SUMMARY:Donation board
DESCRIPTION:Choose one or two items from the donation board and bring your
  donations back by June 20-21.
END:VEVENT
BEGIN:VEVENT
UID:3078006@ssjohnpaul.org
DTSTAMP:20260424T035617Z
DTSTART;VALUE=DATE:20260601
DTEND;VALUE=DATE:20260602
SUMMARY:Late Registration Deadline
DESCRIPTION:Final day to register!
END:VEVENT
BEGIN:VEVENT
UID:3078009@ssjohnpaul.org
DTSTAMP:20260424T035617Z
DTSTART:20260621T180000
DTEND:20260625T201500
SUMMARY:Vacation Bible School
END:VEVENT
BEGIN:VEVENT
UID:3078010@ssjohnpaul.org
DTSTAMP:20260424T035617Z
DTSTART:20260625T200000
DTEND:20260625T202000
SUMMARY:Closing Program
DESCRIPTION:Parents\, guardians and family are invited for the finale!
END:VEVENT
BEGIN:VEVENT
UID:3081319@ssjohnpaul.org
DTSTAMP:20260424T035617Z
DTSTART:20260429T180000
DTEND:20260429T200000
SUMMARY:Youth Ministry BASH!
DESCRIPTION:Youth in 2nd through 12th grades and their families are invite
 d for the end-of-year celebration. Click or tap for details!
END:VEVENT
END:VCALENDAR
